Package: msmsEDA Version: 1.44.0 Command: /home/biocbuild/R/R/bin/R CMD build --keep-empty-dirs --no-resave-data msmsEDA StartedAt: 2025-02-11 01:00:41 -0000 (Tue, 11 Feb 2025) EndedAt: 2025-02-11 01:01:40 -0000 (Tue, 11 Feb 2025) EllapsedTime: 59.0 seconds RetCode: 0 Status: OK PackageFile: msmsEDA_1.44.0.tar.gz PackageFileSize: 433 KiB