Package: msmsEDA Version: 1.44.0 Command: /home/biocbuild/R/R/bin/R CMD check --install=check:msmsEDA.install-out.txt --library=/home/biocbuild/R/R/site-library --no-vignettes --timings msmsEDA_1.44.0.tar.gz StartedAt: 2025-02-04 09:06:18 -0000 (Tue, 04 Feb 2025) EndedAt: 2025-02-04 09:09:07 -0000 (Tue, 04 Feb 2025) EllapsedTime: 169.2 seconds RetCode: 0 Status: OK CheckDir: msmsEDA.Rcheck Warnings: 0