Package: msqrob2 Version: 1.14.1 Command: /Library/Frameworks/R.framework/Resources/bin/R CMD INSTALL msqrob2 StartedAt: 2025-02-03 16:46:36 -0500 (Mon, 03 Feb 2025) EndedAt: 2025-02-03 16:47:11 -0500 (Mon, 03 Feb 2025) EllapsedTime: 35.0 seconds RetCode: 0 Status: OK