Package: msqrob2 Version: 1.14.1 Command: /home/biocbuild/bbs-3.20-bioc/R/bin/R CMD check --install=check:msqrob2.install-out.txt --library=/home/biocbuild/bbs-3.20-bioc/R/site-library --timings msqrob2_1.14.1.tar.gz StartedAt: 2025-02-04 00:28:50 -0500 (Tue, 04 Feb 2025) EndedAt: 2025-02-04 00:34:14 -0500 (Tue, 04 Feb 2025) EllapsedTime: 323.2 seconds RetCode: 0 Status: OK CheckDir: msqrob2.Rcheck Warnings: 0