Package: msqrob2 Version: 1.14.1 Command: /home/biocbuild/bbs-3.20-bioc/R/bin/R CMD INSTALL msqrob2 StartedAt: 2025-02-10 15:40:23 -0500 (Mon, 10 Feb 2025) EndedAt: 2025-02-10 15:40:51 -0500 (Mon, 10 Feb 2025) EllapsedTime: 27.6 seconds RetCode: 0 Status: OK