Package: msqrob2 Version: 1.14.1 Command: rm -rf msqrob2.buildbin-libdir && mkdir msqrob2.buildbin-libdir && F:\biocbuild\bbs-3.20-bioc\R\bin\R.exe CMD INSTALL --build --library=msqrob2.buildbin-libdir msqrob2_1.14.1.tar.gz StartedAt: 2025-02-04 09:00:30 -0500 (Tue, 04 Feb 2025) EndedAt: 2025-02-04 09:01:27 -0500 (Tue, 04 Feb 2025) EllapsedTime: 56.7 seconds RetCode: 0 Status: OK PackageFile: msqrob2_1.14.1.zip PackageFileSize: 1.371 MiB