Package: msqrob2 Version: 1.14.1 Command: chmod a+r msqrob2 -R && F:\biocbuild\bbs-3.20-bioc\R\bin\R.exe CMD build --keep-empty-dirs --no-resave-data msqrob2 StartedAt: 2025-02-03 20:37:13 -0500 (Mon, 03 Feb 2025) EndedAt: 2025-02-03 20:42:18 -0500 (Mon, 03 Feb 2025) EllapsedTime: 304.8 seconds RetCode: 0 Status: OK PackageFile: msqrob2_1.14.1.tar.gz PackageFileSize: 1.043 MiB