Package: multiGSEA Version: 1.16.2 Command: rm -rf multiGSEA.buildbin-libdir && mkdir multiGSEA.buildbin-libdir && /Users/biocbuild/BBS/utils/build-universal.sh multiGSEA_1.16.2.tar.gz /Library/Frameworks/R.framework/Resources/bin/R multiGSEA.buildbin-libdir StartedAt: 2025-02-05 16:52:04 -0500 (Wed, 05 Feb 2025) EndedAt: 2025-02-05 16:53:54 -0500 (Wed, 05 Feb 2025) EllapsedTime: 110.6 seconds RetCode: 0 Status: OK PackageFile: multiGSEA_1.16.2.tgz PackageFileSize: 981.5 KiB