Package: multiGSEA Version: 1.16.2 Command: /Library/Frameworks/R.framework/Resources/bin/R CMD build --keep-empty-dirs --no-resave-data multiGSEA StartedAt: 2025-02-04 04:19:11 -0500 (Tue, 04 Feb 2025) EndedAt: 2025-02-04 04:47:45 -0500 (Tue, 04 Feb 2025) EllapsedTime: 1714.3 seconds RetCode: 0 Status: OK PackageFile: multiGSEA_1.16.2.tar.gz PackageFileSize: 952.6 KiB