Package: multiGSEA Version: 1.16.2 Command: /Library/Frameworks/R.framework/Resources/bin/R CMD INSTALL multiGSEA StartedAt: 2025-02-03 17:28:14 -0500 (Mon, 03 Feb 2025) EndedAt: 2025-02-03 17:29:58 -0500 (Mon, 03 Feb 2025) EllapsedTime: 104.2 seconds RetCode: 0 Status: OK