Package: multiGSEA Version: 1.16.2 Command: /Library/Frameworks/R.framework/Resources/bin/R CMD build --keep-empty-dirs --no-resave-data multiGSEA StartedAt: 2025-02-03 20:44:30 -0500 (Mon, 03 Feb 2025) EndedAt: 2025-02-03 21:24:31 -0500 (Mon, 03 Feb 2025) EllapsedTime: 2400.2 seconds RetCode: None Status: TIMEOUT PackageFile: None PackageFileSize: NA