Package: multiGSEA Version: 1.16.2 Command: /home/biocbuild/bbs-3.20-bioc/R/bin/R CMD build --keep-empty-dirs --no-resave-data --md5 multiGSEA StartedAt: 2025-02-03 18:25:42 -0500 (Mon, 03 Feb 2025) EndedAt: 2025-02-03 18:47:20 -0500 (Mon, 03 Feb 2025) EllapsedTime: 1297.9 seconds RetCode: 0 Status: OK PackageFile: multiGSEA_1.16.2.tar.gz PackageFileSize: 954.2 KiB