Package: multiGSEA Version: 1.16.2 Command: rm -rf multiGSEA.buildbin-libdir && mkdir multiGSEA.buildbin-libdir && F:\biocbuild\bbs-3.20-bioc\R\bin\R.exe CMD INSTALL --build --library=multiGSEA.buildbin-libdir multiGSEA_1.16.2.tar.gz StartedAt: 2025-02-04 09:01:37 -0500 (Tue, 04 Feb 2025) EndedAt: 2025-02-04 09:03:11 -0500 (Tue, 04 Feb 2025) EllapsedTime: 94.1 seconds RetCode: 0 Status: OK PackageFile: multiGSEA_1.16.2.zip PackageFileSize: 988.3 KiB