Package: multiGSEA Version: 1.16.2 Command: chmod a+r multiGSEA -R && F:\biocbuild\bbs-3.20-bioc\R\bin\R.exe CMD build --keep-empty-dirs --no-resave-data multiGSEA StartedAt: 2025-02-03 20:41:24 -0500 (Mon, 03 Feb 2025) EndedAt: 2025-02-03 21:05:21 -0500 (Mon, 03 Feb 2025) EllapsedTime: 1437.2 seconds RetCode: 0 Status: OK PackageFile: multiGSEA_1.16.2.tar.gz PackageFileSize: 952.8 KiB