Package: multiGSEA Version: 1.16.2 Command: /home/biocbuild/R/R/bin/R CMD build --keep-empty-dirs --no-resave-data multiGSEA StartedAt: 2025-02-11 01:04:21 -0000 (Tue, 11 Feb 2025) EndedAt: 2025-02-11 01:31:21 -0000 (Tue, 11 Feb 2025) EllapsedTime: 1620.3 seconds RetCode: 0 Status: OK PackageFile: multiGSEA_1.16.2.tar.gz PackageFileSize: 1017 KiB