Package: multiGSEA Version: 1.16.2 Command: /home/biocbuild/R/R/bin/R CMD INSTALL multiGSEA StartedAt: 2025-02-03 21:10:12 -0000 (Mon, 03 Feb 2025) EndedAt: 2025-02-03 21:12:00 -0000 (Mon, 03 Feb 2025) EllapsedTime: 107.8 seconds RetCode: 0 Status: OK