Package: multiHiCcompare Version: 1.24.0 Command: /Library/Frameworks/R.framework/Resources/bin/R CMD build --keep-empty-dirs --no-resave-data multiHiCcompare StartedAt: 2025-02-04 04:20:24 -0500 (Tue, 04 Feb 2025) EndedAt: 2025-02-04 04:21:43 -0500 (Tue, 04 Feb 2025) EllapsedTime: 79.1 seconds RetCode: 0 Status: OK PackageFile: multiHiCcompare_1.24.0.tar.gz PackageFileSize: 4.723 MiB