Package: multiHiCcompare Version: 1.24.0 Command: /Library/Frameworks/R.framework/Resources/bin/R CMD check --install=check:multiHiCcompare.install-out.txt --library=/Library/Frameworks/R.framework/Resources/library --no-vignettes --timings multiHiCcompare_1.24.0.tar.gz StartedAt: 2025-02-05 03:21:47 -0500 (Wed, 05 Feb 2025) EndedAt: 2025-02-05 03:26:15 -0500 (Wed, 05 Feb 2025) EllapsedTime: 268.2 seconds RetCode: 0 Status: OK CheckDir: multiHiCcompare.Rcheck Warnings: 0