Package: multiHiCcompare Version: 1.24.0 Command: /Library/Frameworks/R.framework/Resources/bin/R CMD build --keep-empty-dirs --no-resave-data multiHiCcompare StartedAt: 2025-02-03 20:45:06 -0500 (Mon, 03 Feb 2025) EndedAt: 2025-02-03 20:47:26 -0500 (Mon, 03 Feb 2025) EllapsedTime: 140.3 seconds RetCode: 0 Status: OK PackageFile: multiHiCcompare_1.24.0.tar.gz PackageFileSize: 4.723 MiB