Package: multiHiCcompare Version: 1.24.0 Command: /Library/Frameworks/R.framework/Resources/bin/R CMD INSTALL multiHiCcompare StartedAt: 2025-02-10 15:26:29 -0500 (Mon, 10 Feb 2025) EndedAt: 2025-02-10 15:27:31 -0500 (Mon, 10 Feb 2025) EllapsedTime: 62.2 seconds RetCode: 0 Status: OK