Package: multiHiCcompare Version: 1.24.0 Command: /home/biocbuild/bbs-3.20-bioc/R/bin/R CMD check --install=check:multiHiCcompare.install-out.txt --library=/home/biocbuild/bbs-3.20-bioc/R/site-library --timings multiHiCcompare_1.24.0.tar.gz StartedAt: 2025-02-04 00:34:20 -0500 (Tue, 04 Feb 2025) EndedAt: 2025-02-04 00:38:19 -0500 (Tue, 04 Feb 2025) EllapsedTime: 239.5 seconds RetCode: 0 Status: OK CheckDir: multiHiCcompare.Rcheck Warnings: 0