Package: multiHiCcompare Version: 1.24.0 Command: rm -rf multiHiCcompare.buildbin-libdir && mkdir multiHiCcompare.buildbin-libdir && F:\biocbuild\bbs-3.20-bioc\R\bin\R.exe CMD INSTALL --build --library=multiHiCcompare.buildbin-libdir multiHiCcompare_1.24.0.tar.gz StartedAt: 2025-02-04 09:01:39 -0500 (Tue, 04 Feb 2025) EndedAt: 2025-02-04 09:02:55 -0500 (Tue, 04 Feb 2025) EllapsedTime: 76.0 seconds RetCode: 0 Status: OK PackageFile: multiHiCcompare_1.24.0.zip PackageFileSize: 5.099 MiB