Package: multiHiCcompare Version: 1.24.0 Command: /home/biocbuild/R/R/bin/R CMD INSTALL multiHiCcompare StartedAt: 2025-02-10 20:23:54 -0000 (Mon, 10 Feb 2025) EndedAt: 2025-02-10 20:24:29 -0000 (Mon, 10 Feb 2025) EllapsedTime: 35.1 seconds RetCode: 0 Status: OK