Package: multiWGCNA Version: 1.4.0 Command: /Library/Frameworks/R.framework/Resources/bin/R CMD build --keep-empty-dirs --no-resave-data multiWGCNA StartedAt: 2025-02-03 20:45:49 -0500 (Mon, 03 Feb 2025) EndedAt: 2025-02-03 20:53:21 -0500 (Mon, 03 Feb 2025) EllapsedTime: 451.6 seconds RetCode: 0 Status: OK PackageFile: multiWGCNA_1.4.0.tar.gz PackageFileSize: 3.576 MiB