Package: multiWGCNA Version: 1.4.0 Command: /home/biocbuild/bbs-3.20-bioc/R/bin/R CMD build --keep-empty-dirs --no-resave-data --md5 multiWGCNA StartedAt: 2025-02-03 18:26:06 -0500 (Mon, 03 Feb 2025) EndedAt: 2025-02-03 18:30:09 -0500 (Mon, 03 Feb 2025) EllapsedTime: 242.2 seconds RetCode: 0 Status: OK PackageFile: multiWGCNA_1.4.0.tar.gz PackageFileSize: 3.392 MiB