Package: multiWGCNA Version: 1.4.0 Command: /home/biocbuild/bbs-3.20-bioc/R/bin/R CMD check --install=check:multiWGCNA.install-out.txt --library=/home/biocbuild/bbs-3.20-bioc/R/site-library --timings multiWGCNA_1.4.0.tar.gz StartedAt: 2025-02-04 00:35:17 -0500 (Tue, 04 Feb 2025) EndedAt: 2025-02-04 00:47:55 -0500 (Tue, 04 Feb 2025) EllapsedTime: 757.9 seconds RetCode: 0 Status: OK CheckDir: multiWGCNA.Rcheck Warnings: 0