Package: multiWGCNA Version: 1.4.0 Command: /home/biocbuild/R/R/bin/R CMD build --keep-empty-dirs --no-resave-data multiWGCNA StartedAt: 2025-02-11 01:05:01 -0000 (Tue, 11 Feb 2025) EndedAt: 2025-02-11 01:09:58 -0000 (Tue, 11 Feb 2025) EllapsedTime: 297.1 seconds RetCode: 0 Status: OK PackageFile: multiWGCNA_1.4.0.tar.gz PackageFileSize: 1.943 MiB