Package: multicrispr Version: 1.16.1 Command: /Library/Frameworks/R.framework/Resources/bin/R CMD build --keep-empty-dirs --no-resave-data multicrispr StartedAt: 2025-02-11 04:17:23 -0500 (Tue, 11 Feb 2025) EndedAt: 2025-02-11 04:19:01 -0500 (Tue, 11 Feb 2025) EllapsedTime: 97.4 seconds RetCode: 0 Status: OK PackageFile: multicrispr_1.16.1.tar.gz PackageFileSize: 2.586 MiB