Package: multicrispr Version: 1.16.1 Command: /Library/Frameworks/R.framework/Resources/bin/R CMD INSTALL multicrispr StartedAt: 2025-02-03 16:39:27 -0500 (Mon, 03 Feb 2025) EndedAt: 2025-02-03 16:40:09 -0500 (Mon, 03 Feb 2025) EllapsedTime: 41.9 seconds RetCode: 0 Status: OK