Package: multicrispr Version: 1.16.1 Command: /home/biocbuild/bbs-3.20-bioc/R/bin/R CMD build --keep-empty-dirs --no-resave-data --md5 multicrispr StartedAt: 2025-02-03 18:25:28 -0500 (Mon, 03 Feb 2025) EndedAt: 2025-02-03 18:26:43 -0500 (Mon, 03 Feb 2025) EllapsedTime: 75.1 seconds RetCode: 0 Status: OK PackageFile: multicrispr_1.16.1.tar.gz PackageFileSize: 2.577 MiB