Package: multicrispr Version: 1.16.1 Command: /home/biocbuild/bbs-3.20-bioc/R/bin/R CMD check --install=check:multicrispr.install-out.txt --library=/home/biocbuild/bbs-3.20-bioc/R/site-library --timings multicrispr_1.16.1.tar.gz StartedAt: 2025-02-04 00:32:47 -0500 (Tue, 04 Feb 2025) EndedAt: 2025-02-04 00:39:41 -0500 (Tue, 04 Feb 2025) EllapsedTime: 414.6 seconds RetCode: 0 Status: OK CheckDir: multicrispr.Rcheck Warnings: 0