Package: multicrispr Version: 1.16.1 Command: chmod a+r multicrispr -R && F:\biocbuild\bbs-3.20-bioc\R\bin\R.exe CMD build --keep-empty-dirs --no-resave-data multicrispr StartedAt: 2025-02-03 20:40:49 -0500 (Mon, 03 Feb 2025) EndedAt: 2025-02-03 20:43:57 -0500 (Mon, 03 Feb 2025) EllapsedTime: 187.7 seconds RetCode: 0 Status: OK PackageFile: multicrispr_1.16.1.tar.gz PackageFileSize: 1.967 MiB