Package: multicrispr Version: 1.16.1 Command: F:\biocbuild\bbs-3.20-bioc\R\bin\R.exe CMD INSTALL multicrispr StartedAt: 2025-02-03 16:57:23 -0500 (Mon, 03 Feb 2025) EndedAt: 2025-02-03 16:58:38 -0500 (Mon, 03 Feb 2025) EllapsedTime: 75.6 seconds RetCode: 0 Status: OK