Package: multicrispr Version: 1.16.1 Command: /home/biocbuild/R/R/bin/R CMD build --keep-empty-dirs --no-resave-data multicrispr StartedAt: 2025-02-11 01:04:02 -0000 (Tue, 11 Feb 2025) EndedAt: 2025-02-11 01:05:47 -0000 (Tue, 11 Feb 2025) EllapsedTime: 105.0 seconds RetCode: 0 Status: OK PackageFile: multicrispr_1.16.1.tar.gz PackageFileSize: 2.155 MiB