Package: multiscan Version: 1.66.0 Command: /Library/Frameworks/R.framework/Resources/bin/R CMD build --keep-empty-dirs --no-resave-data multiscan StartedAt: 2025-02-10 20:47:17 -0500 (Mon, 10 Feb 2025) EndedAt: 2025-02-10 20:47:43 -0500 (Mon, 10 Feb 2025) EllapsedTime: 25.7 seconds RetCode: 0 Status: OK PackageFile: multiscan_1.66.0.tar.gz PackageFileSize: 750.7 KiB