Package: multiscan Version: 1.66.0 Command: rm -rf multiscan.buildbin-libdir && mkdir multiscan.buildbin-libdir && F:\biocbuild\bbs-3.20-bioc\R\bin\R.exe CMD INSTALL --build --library=multiscan.buildbin-libdir multiscan_1.66.0.tar.gz StartedAt: 2025-02-04 09:01:48 -0500 (Tue, 04 Feb 2025) EndedAt: 2025-02-04 09:01:59 -0500 (Tue, 04 Feb 2025) EllapsedTime: 10.3 seconds RetCode: 0 Status: OK PackageFile: multiscan_1.66.0.zip PackageFileSize: 565 KiB