Package: multiscan Version: 1.66.0 Command: /home/biocbuild/R/R/bin/R CMD build --keep-empty-dirs --no-resave-data multiscan StartedAt: 2025-02-04 01:18:17 -0000 (Tue, 04 Feb 2025) EndedAt: 2025-02-04 01:18:26 -0000 (Tue, 04 Feb 2025) EllapsedTime: 9.0 seconds RetCode: 0 Status: OK PackageFile: multiscan_1.66.0.tar.gz PackageFileSize: 738.1 KiB