Package: multiscan Version: 1.66.0 Command: /home/biocbuild/R/R/bin/R CMD INSTALL multiscan StartedAt: 2025-02-03 20:22:03 -0000 (Mon, 03 Feb 2025) EndedAt: 2025-02-03 20:22:09 -0000 (Mon, 03 Feb 2025) EllapsedTime: 5.6 seconds RetCode: 0 Status: OK