Package: multistateQTL Version: 1.2.1 Maintainer: Amelia Dunstone MaintainerEmail: amelia.dunstone at svi.edu.au git_url: https://git.bioconductor.org/packages/multistateQTL git_branch: RELEASE_3_20 git_last_commit: 5ae5eeb git_last_commit_date: 2025-02-02 22:54:20 -0500 (Sun, 02 Feb 2025)