Package: multistateQTL Version: 1.2.1 Command: rm -rf multistateQTL.buildbin-libdir && mkdir multistateQTL.buildbin-libdir && /Users/biocbuild/BBS/utils/build-universal.sh multistateQTL_1.2.1.tar.gz /Library/Frameworks/R.framework/Resources/bin/R multistateQTL.buildbin-libdir StartedAt: 2025-02-05 16:52:53 -0500 (Wed, 05 Feb 2025) EndedAt: 2025-02-05 16:53:25 -0500 (Wed, 05 Feb 2025) EllapsedTime: 32.5 seconds RetCode: 0 Status: OK PackageFile: multistateQTL_1.2.1.tgz PackageFileSize: 865.2 KiB