Package: multistateQTL Version: 1.2.2 Command: /Library/Frameworks/R.framework/Resources/bin/R CMD INSTALL multistateQTL StartedAt: 2025-02-10 18:25:06 -0500 (Mon, 10 Feb 2025) EndedAt: 2025-02-10 18:25:37 -0500 (Mon, 10 Feb 2025) EllapsedTime: 31.1 seconds RetCode: 0 Status: OK