Package: multistateQTL Version: 1.2.1 Command: /Library/Frameworks/R.framework/Resources/bin/R CMD build --keep-empty-dirs --no-resave-data multistateQTL StartedAt: 2025-02-03 20:45:46 -0500 (Mon, 03 Feb 2025) EndedAt: 2025-02-03 20:47:44 -0500 (Mon, 03 Feb 2025) EllapsedTime: 117.6 seconds RetCode: 0 Status: OK PackageFile: multistateQTL_1.2.1.tar.gz PackageFileSize: 783.5 KiB