Package: multistateQTL Version: 1.2.1 Command: /Library/Frameworks/R.framework/Resources/bin/R CMD check --install=check:multistateQTL.install-out.txt --library=/Library/Frameworks/R.framework/Resources/library --no-vignettes --timings multistateQTL_1.2.1.tar.gz StartedAt: 2025-02-04 07:03:05 -0500 (Tue, 04 Feb 2025) EndedAt: 2025-02-04 07:11:22 -0500 (Tue, 04 Feb 2025) EllapsedTime: 497.2 seconds RetCode: 0 Status: OK CheckDir: multistateQTL.Rcheck Warnings: 0