Package: multistateQTL Version: 1.2.0 Command: /home/biocbuild/bbs-3.20-bioc/R/bin/R CMD INSTALL multistateQTL StartedAt: 2025-01-30 16:01:42 -0500 (Thu, 30 Jan 2025) EndedAt: 2025-01-30 16:02:06 -0500 (Thu, 30 Jan 2025) EllapsedTime: 24.7 seconds RetCode: 0 Status: OK