Package: multistateQTL Version: 1.2.1 Command: rm -rf multistateQTL.buildbin-libdir && mkdir multistateQTL.buildbin-libdir && F:\biocbuild\bbs-3.20-bioc\R\bin\R.exe CMD INSTALL --build --library=multistateQTL.buildbin-libdir multistateQTL_1.2.1.tar.gz StartedAt: 2025-02-04 09:01:50 -0500 (Tue, 04 Feb 2025) EndedAt: 2025-02-04 09:02:47 -0500 (Tue, 04 Feb 2025) EllapsedTime: 56.9 seconds RetCode: 0 Status: OK PackageFile: multistateQTL_1.2.1.zip PackageFileSize: 572.1 KiB