Package: multistateQTL Version: 1.2.1 Command: chmod a+r multistateQTL -R && F:\biocbuild\bbs-3.20-bioc\R\bin\R.exe CMD build --keep-empty-dirs --no-resave-data multistateQTL StartedAt: 2025-02-03 20:42:24 -0500 (Mon, 03 Feb 2025) EndedAt: 2025-02-03 20:43:55 -0500 (Mon, 03 Feb 2025) EllapsedTime: 91.1 seconds RetCode: 0 Status: OK PackageFile: multistateQTL_1.2.1.tar.gz PackageFileSize: 490.8 KiB