Package: multistateQTL Version: 1.2.1 Command: F:\biocbuild\bbs-3.20-bioc\R\bin\R.exe CMD check --no-multiarch --install=check:multistateQTL.install-out.txt --library=F:\biocbuild\bbs-3.20-bioc\R\library --no-vignettes --timings multistateQTL_1.2.1.tar.gz StartedAt: 2025-02-04 04:14:33 -0500 (Tue, 04 Feb 2025) EndedAt: 2025-02-04 04:19:21 -0500 (Tue, 04 Feb 2025) EllapsedTime: 288.2 seconds RetCode: 0 Status: OK CheckDir: multistateQTL.Rcheck Warnings: 0