Package: multistateQTL Version: 1.2.2 Command: /home/biocbuild/R/R/bin/R CMD build --keep-empty-dirs --no-resave-data multistateQTL StartedAt: 2025-02-11 01:05:00 -0000 (Tue, 11 Feb 2025) EndedAt: 2025-02-11 01:06:10 -0000 (Tue, 11 Feb 2025) EllapsedTime: 70.0 seconds RetCode: 0 Status: OK PackageFile: multistateQTL_1.2.2.tar.gz PackageFileSize: 605.2 KiB