Package: multistateQTL Version: 1.2.2 Command: /home/biocbuild/R/R/bin/R CMD check --install=check:multistateQTL.install-out.txt --library=/home/biocbuild/R/R/site-library --no-vignettes --timings multistateQTL_1.2.2.tar.gz StartedAt: 2025-02-11 08:31:58 -0000 (Tue, 11 Feb 2025) EndedAt: 2025-02-11 08:36:35 -0000 (Tue, 11 Feb 2025) EllapsedTime: 277.5 seconds RetCode: 0 Status: OK CheckDir: multistateQTL.Rcheck Warnings: 0