Package: multtest Version: 2.62.0 Command: /Library/Frameworks/R.framework/Resources/bin/R CMD build --keep-empty-dirs --no-resave-data multtest StartedAt: 2025-01-31 04:15:11 -0500 (Fri, 31 Jan 2025) EndedAt: 2025-01-31 04:15:13 -0500 (Fri, 31 Jan 2025) EllapsedTime: 2.3 seconds RetCode: 0 Status: OK PackageFile: multtest_2.62.0.tar.gz PackageFileSize: 1.235 MiB